BEGIN:VCALENDAR
VERSION:2.0
PRODID:-//Marsworth Parish Council//Meeting Calendar//EN
CALSCALE:GREGORIAN
METHOD:PUBLISH
BEGIN:VEVENT
UID:71458-20260413@marsworth-pc.gov.uk
DTSTAMP:20260420T135228Z
DTSTART;VALUE=DATE:20260413
DTEND;VALUE=DATE:20260414
SUMMARY:Parish Council Meeting &#8211\\; 13th April 2026
DESCRIPTION:Full Council Meeting\nView details: https://marsworth-pc.gov.uk/meetings/full-council-meeting-13th-april-2026/
URL:https://marsworth-pc.gov.uk/meetings/full-council-meeting-13th-april-2026/
END:VEVENT
END:VCALENDAR
