BEGIN:VCALENDAR
VERSION:2.0
PRODID:-//Marsworth Parish Council//Meeting Calendar//EN
CALSCALE:GREGORIAN
METHOD:PUBLISH
BEGIN:VEVENT
UID:71456-20260209@marsworth-pc.gov.uk
DTSTAMP:20260420T134810Z
DTSTART;VALUE=DATE:20260209
DTEND;VALUE=DATE:20260210
SUMMARY:Full Council Meeting &#8211\\; 9th February 2026
DESCRIPTION:Full Council Meeting\nView details: https://marsworth-pc.gov.uk/meetings/full-council-meeting-9th-february-2026/
URL:https://marsworth-pc.gov.uk/meetings/full-council-meeting-9th-february-2026/
END:VEVENT
END:VCALENDAR
