BEGIN:VCALENDAR
VERSION:2.0
PRODID:-//Marsworth Parish Council//Meeting Calendar//EN
CALSCALE:GREGORIAN
METHOD:PUBLISH
BEGIN:VEVENT
UID:71452-20260112@marsworth-pc.gov.uk
DTSTAMP:20260420T134354Z
DTSTART;VALUE=DATE:20260112
DTEND;VALUE=DATE:20260113
SUMMARY:Full Council Meeting &#8211\\; 12 January 2026
DESCRIPTION:Full Council Meeting\nView details: https://marsworth-pc.gov.uk/meetings/meeting-name-here/
URL:https://marsworth-pc.gov.uk/meetings/meeting-name-here/
END:VEVENT
END:VCALENDAR
