BEGIN:VCALENDAR
VERSION:2.0
PRODID:-//Marsworth Parish Council//Meeting Calendar//EN
CALSCALE:GREGORIAN
METHOD:PUBLISH
BEGIN:VEVENT
UID:71363-20250512@marsworth-pc.gov.uk
DTSTAMP:20260420T163021Z
DTSTART;VALUE=DATE:20250512
DTEND;VALUE=DATE:20250513
SUMMARY:Annual Meeting of Council 12 May 2025
DESCRIPTION:Full Council Meeting\nView details: https://marsworth-pc.gov.uk/meetings/annual-meeting-of-council-2025/
URL:https://marsworth-pc.gov.uk/meetings/annual-meeting-of-council-2025/
END:VEVENT
END:VCALENDAR
