BEGIN:VCALENDAR
VERSION:2.0
PRODID:-//Marsworth Parish Council//Meeting Calendar//EN
CALSCALE:GREGORIAN
METHOD:PUBLISH
BEGIN:VEVENT
UID:70529-20220413@marsworth-pc.gov.uk
DTSTAMP:20260420T161929Z
DTSTART;VALUE=DATE:20220413
DTEND;VALUE=DATE:20220414
SUMMARY:Annual Parish Meeting &#8211\\; 13 April 2022
DESCRIPTION:Annual Parish Meeting\nView details: https://marsworth-pc.gov.uk/meetings/annual-parish-meeting-13-april-2022/
URL:https://marsworth-pc.gov.uk/meetings/annual-parish-meeting-13-april-2022/
END:VEVENT
END:VCALENDAR
