BEGIN:VCALENDAR
VERSION:2.0
PRODID:-//Marsworth Parish Council//Meeting Calendar//EN
CALSCALE:GREGORIAN
METHOD:PUBLISH
BEGIN:VEVENT
UID:70523-20240408@marsworth-pc.gov.uk
DTSTAMP:20260420T145047Z
DTSTART;VALUE=DATE:20240408
DTEND;VALUE=DATE:20240409
SUMMARY:Annual Parish Meeting &#8211\\; 8 April 2024
DESCRIPTION:Annual Parish Meeting\nView details: https://marsworth-pc.gov.uk/meetings/annual-parish-meeting-8-april-2024/
URL:https://marsworth-pc.gov.uk/meetings/annual-parish-meeting-8-april-2024/
END:VEVENT
END:VCALENDAR
