BEGIN:VCALENDAR
VERSION:2.0
PRODID:-//Marsworth Parish Council//Meeting Calendar//EN
CALSCALE:GREGORIAN
METHOD:PUBLISH
BEGIN:VEVENT
UID:70490-20250811@marsworth-pc.gov.uk
DTSTAMP:20260420T171033Z
DTSTART;VALUE=DATE:20250811
DTEND;VALUE=DATE:20250812
SUMMARY:Full Council Meeting &#8211\\; 11 August 2025
DESCRIPTION:Full Council Meeting\nView details: https://marsworth-pc.gov.uk/meetings/full-council-meeting-11-august-2025/
URL:https://marsworth-pc.gov.uk/meetings/full-council-meeting-11-august-2025/
END:VEVENT
END:VCALENDAR
