BEGIN:VCALENDAR
VERSION:2.0
PRODID:-//Marsworth Parish Council//Meeting Calendar//EN
CALSCALE:GREGORIAN
METHOD:PUBLISH
BEGIN:VEVENT
UID:70486-20251013@marsworth-pc.gov.uk
DTSTAMP:20260420T151751Z
DTSTART;VALUE=DATE:20251013
DTEND;VALUE=DATE:20251014
SUMMARY:Full Council Meeting &#8211\\; 13 October 2025
DESCRIPTION:Full Council Meeting\nView details: https://marsworth-pc.gov.uk/meetings/full-council-meeting-13-october-2025/
URL:https://marsworth-pc.gov.uk/meetings/full-council-meeting-13-october-2025/
END:VEVENT
END:VCALENDAR
